BEGIN:VCALENDAR
VERSION:2.0
PRODID:JMS Hockey
X-PUBLISHED-TTL:P1W
BEGIN:VEVENT
UID:69e7963454ae8
DTSTART:20190912T023000Z
SEQUENCE:0
TRANSP:OPAQUE
DTEND:20190912T040000Z
URL:http://jmshockey.com/games/12283
LOCATION:Doug Woog Arena (Wakota)
SUMMARY:Intermediate Game at Doug Woog Arena (Wakota)
CLASS:PUBLIC
DTSTAMP:20260421T102228Z
END:VEVENT
END:VCALENDAR