BEGIN:VCALENDAR
VERSION:2.0
PRODID:JMS Hockey
X-PUBLISHED-TTL:P1W
BEGIN:VEVENT
UID:69e93ae21798a
DTSTART:20190913T024000Z
SEQUENCE:0
TRANSP:OPAQUE
DTEND:20190913T041000Z
URL:http://jmshockey.com/games/12265
LOCATION:St Thomas Ice Arena
SUMMARY:All level Game at St Thomas Ice Arena
CLASS:PUBLIC
DTSTAMP:20260422T161722Z
END:VEVENT
END:VCALENDAR