BEGIN:VCALENDAR
VERSION:2.0
PRODID:JMS Hockey
X-PUBLISHED-TTL:P1W
BEGIN:VEVENT
UID:69e7a7a3d1f54
DTSTART:20190921T023000Z
SEQUENCE:0
TRANSP:OPAQUE
DTEND:20190921T040000Z
URL:http://jmshockey.com/games/12256
LOCATION:Roseville Skating Center
SUMMARY:Lower Level Game at Roseville Skating Center
CLASS:PUBLIC
DTSTAMP:20260421T113651Z
END:VEVENT
END:VCALENDAR