BEGIN:VCALENDAR
VERSION:2.0
PRODID:JMS Hockey
X-PUBLISHED-TTL:P1W
BEGIN:VEVENT
UID:69e79fb135c6a
DTSTART:20190911T021500Z
SEQUENCE:0
TRANSP:OPAQUE
DTEND:20190911T034500Z
URL:http://jmshockey.com/games/12244
LOCATION:Maple Grove
SUMMARY:Intermediate Game at Maple Grove
CLASS:PUBLIC
DTSTAMP:20260421T110257Z
END:VEVENT
END:VCALENDAR