BEGIN:VCALENDAR
VERSION:2.0
PRODID:JMS Hockey
X-PUBLISHED-TTL:P1W
BEGIN:VEVENT
UID:69e7d632bb3a1
DTSTART:20100204T034500Z
SEQUENCE:0
TRANSP:OPAQUE
DTEND:20100204T051500Z
URL:http://jmshockey.com/games/1221
LOCATION:New Hope Ice Arena
SUMMARY:Level 3 Game at New Hope Ice Arena
CLASS:PUBLIC
DTSTAMP:20260421T145530Z
END:VEVENT
END:VCALENDAR