BEGIN:VCALENDAR
VERSION:2.0
PRODID:JMS Hockey
X-PUBLISHED-TTL:P1W
BEGIN:VEVENT
UID:69e795d63df70
DTSTART:20190810T011500Z
SEQUENCE:0
TRANSP:OPAQUE
DTEND:20190810T024500Z
URL:http://jmshockey.com/games/12205
LOCATION:Roseville Skating Center
SUMMARY:Lower Level Game at Roseville Skating Center
CLASS:PUBLIC
DTSTAMP:20260421T102054Z
END:VEVENT
END:VCALENDAR