BEGIN:VCALENDAR
VERSION:2.0
PRODID:JMS Hockey
X-PUBLISHED-TTL:P1W
BEGIN:VEVENT
UID:69e7c380efa74
DTSTART:20190827T011500Z
SEQUENCE:0
TRANSP:OPAQUE
DTEND:20190827T024500Z
URL:http://jmshockey.com/games/12201
LOCATION:Roseville Skating Center
SUMMARY:Intermediate Game at Roseville Skating Center
CLASS:PUBLIC
DTSTAMP:20260421T133544Z
END:VEVENT
END:VCALENDAR