BEGIN:VCALENDAR
VERSION:2.0
PRODID:JMS Hockey
X-PUBLISHED-TTL:P1W
BEGIN:VEVENT
UID:69e7c3bb12a0c
DTSTART:20190713T010000Z
SEQUENCE:0
TRANSP:OPAQUE
DTEND:20190713T023000Z
URL:http://jmshockey.com/games/12176
LOCATION:Eden Prairie Comm Ctr
SUMMARY:Intermediate Game at Eden Prairie Comm Ctr
CLASS:PUBLIC
DTSTAMP:20260421T133643Z
END:VEVENT
END:VCALENDAR