BEGIN:VCALENDAR
VERSION:2.0
PRODID:JMS Hockey
X-PUBLISHED-TTL:P1W
BEGIN:VEVENT
UID:69e787cbb87db
DTSTART:20190713T020000Z
SEQUENCE:0
TRANSP:OPAQUE
DTEND:20190713T033000Z
URL:http://jmshockey.com/games/12171
LOCATION:St Louis Park Rec Center
SUMMARY:Novice Game at St Louis Park Rec Center
CLASS:PUBLIC
DTSTAMP:20260421T092059Z
END:VEVENT
END:VCALENDAR