BEGIN:VCALENDAR
VERSION:2.0
PRODID:JMS Hockey
X-PUBLISHED-TTL:P1W
BEGIN:VEVENT
UID:69e787f66aed7
DTSTART:20190726T003000Z
SEQUENCE:0
TRANSP:OPAQUE
DTEND:20190726T020000Z
URL:http://jmshockey.com/games/12170
LOCATION:Woodbury Bielenberg
SUMMARY:Lower Level Game at Woodbury Bielenberg
CLASS:PUBLIC
DTSTAMP:20260421T092142Z
END:VEVENT
END:VCALENDAR