BEGIN:VCALENDAR
VERSION:2.0
PRODID:JMS Hockey
X-PUBLISHED-TTL:P1W
BEGIN:VEVENT
UID:69e761222b14e
DTSTART:20190712T010000Z
SEQUENCE:0
TRANSP:OPAQUE
DTEND:20190712T023000Z
URL:http://jmshockey.com/games/12167
LOCATION:Woodbury Bielenberg
SUMMARY:Lower Level Game at Woodbury Bielenberg
CLASS:PUBLIC
DTSTAMP:20260421T063602Z
END:VEVENT
END:VCALENDAR