BEGIN:VCALENDAR
VERSION:2.0
PRODID:JMS Hockey
X-PUBLISHED-TTL:P1W
BEGIN:VEVENT
UID:69e787b304c02
DTSTART:20190709T020000Z
SEQUENCE:0
TRANSP:OPAQUE
DTEND:20190709T033000Z
URL:http://jmshockey.com/games/12146
LOCATION:Roseville Skating Center
SUMMARY:Intermediate Game at Roseville Skating Center
CLASS:PUBLIC
DTSTAMP:20260421T092035Z
END:VEVENT
END:VCALENDAR