BEGIN:VCALENDAR
VERSION:2.0
PRODID:JMS Hockey
X-PUBLISHED-TTL:P1W
BEGIN:VEVENT
UID:69e7b5e891b5d
DTSTART:20190627T004000Z
SEQUENCE:0
TRANSP:OPAQUE
DTEND:20190627T021000Z
URL:http://jmshockey.com/games/12120
LOCATION:Doug Woog Arena (Wakota)
SUMMARY:Intermediate Game at Doug Woog Arena (Wakota)
CLASS:PUBLIC
DTSTAMP:20260421T123744Z
END:VEVENT
END:VCALENDAR