BEGIN:VCALENDAR
VERSION:2.0
PRODID:JMS Hockey
X-PUBLISHED-TTL:P1W
BEGIN:VEVENT
UID:69e7d4e34c972
DTSTART:20100130T030000Z
SEQUENCE:0
TRANSP:OPAQUE
DTEND:20100130T043000Z
URL:http://jmshockey.com/games/1211
LOCATION:Coliseum at the State Fair
SUMMARY:Level 4 Game at Coliseum at the State Fair
CLASS:PUBLIC
DTSTAMP:20260421T144955Z
END:VEVENT
END:VCALENDAR