BEGIN:VCALENDAR
VERSION:2.0
PRODID:JMS Hockey
X-PUBLISHED-TTL:P1W
BEGIN:VEVENT
UID:69e7732faf394
DTSTART:20190608T010000Z
SEQUENCE:0
TRANSP:OPAQUE
DTEND:20190608T023000Z
URL:http://jmshockey.com/games/12106
LOCATION:St Louis Park Rec Center
SUMMARY:Novice Game at St Louis Park Rec Center
CLASS:PUBLIC
DTSTAMP:20260421T075303Z
END:VEVENT
END:VCALENDAR