BEGIN:VCALENDAR
VERSION:2.0
PRODID:JMS Hockey
X-PUBLISHED-TTL:P1W
BEGIN:VEVENT
UID:69e869ae2ac56
DTSTART:20100130T041500Z
SEQUENCE:0
TRANSP:OPAQUE
DTEND:20100130T054500Z
URL:http://jmshockey.com/games/1210
LOCATION:Eden Prairie Comm Ctr
SUMMARY:Level 4 Game at Eden Prairie Comm Ctr
CLASS:PUBLIC
DTSTAMP:20260422T012446Z
END:VEVENT
END:VCALENDAR