BEGIN:VCALENDAR
VERSION:2.0
PRODID:JMS Hockey
X-PUBLISHED-TTL:P1W
BEGIN:VEVENT
UID:69e77b2969c5d
DTSTART:20190614T021500Z
SEQUENCE:0
TRANSP:OPAQUE
DTEND:20190614T034500Z
URL:http://jmshockey.com/games/12084
LOCATION:Maple Grove
SUMMARY:Lower Level Game at Maple Grove
CLASS:PUBLIC
DTSTAMP:20260421T082705Z
END:VEVENT
END:VCALENDAR