BEGIN:VCALENDAR
VERSION:2.0
PRODID:JMS Hockey
X-PUBLISHED-TTL:P1W
BEGIN:VEVENT
UID:69e7a7c78d8c3
DTSTART:20190620T000000Z
SEQUENCE:0
TRANSP:OPAQUE
DTEND:20190620T013000Z
URL:http://jmshockey.com/games/12073
LOCATION:Tartan Arena
SUMMARY:Lower Level Game at Tartan Arena
CLASS:PUBLIC
DTSTAMP:20260421T113727Z
END:VEVENT
END:VCALENDAR