BEGIN:VCALENDAR
VERSION:2.0
PRODID:JMS Hockey
X-PUBLISHED-TTL:P1W
BEGIN:VEVENT
UID:69e7e7fff2d1c
DTSTART:20100130T031500Z
SEQUENCE:0
TRANSP:OPAQUE
DTEND:20100130T044500Z
URL:http://jmshockey.com/games/1207
LOCATION:Bloomington Ice Gardens
SUMMARY:Level 2 Game at Bloomington Ice Gardens
CLASS:PUBLIC
DTSTAMP:20260421T161127Z
END:VEVENT
END:VCALENDAR