BEGIN:VCALENDAR
VERSION:2.0
PRODID:JMS Hockey
X-PUBLISHED-TTL:P1W
BEGIN:VEVENT
UID:69e7616c5d610
DTSTART:20190628T010000Z
SEQUENCE:0
TRANSP:OPAQUE
DTEND:20190628T023000Z
URL:http://jmshockey.com/games/12061
LOCATION:Woodbury Bielenberg
SUMMARY:Lower Level Game at Woodbury Bielenberg
CLASS:PUBLIC
DTSTAMP:20260421T063716Z
END:VEVENT
END:VCALENDAR