BEGIN:VCALENDAR
VERSION:2.0
PRODID:JMS Hockey
X-PUBLISHED-TTL:P1W
BEGIN:VEVENT
UID:69e7af801fac9
DTSTART:20190525T010000Z
SEQUENCE:0
TRANSP:OPAQUE
DTEND:20190525T023000Z
URL:http://jmshockey.com/games/12055
LOCATION:Eden Prairie Comm Ctr
SUMMARY:Intermediate Game at Eden Prairie Comm Ctr
CLASS:PUBLIC
DTSTAMP:20260421T121024Z
END:VEVENT
END:VCALENDAR