BEGIN:VCALENDAR
VERSION:2.0
PRODID:JMS Hockey
X-PUBLISHED-TTL:P1W
BEGIN:VEVENT
UID:69e7c3b73b2f6
DTSTART:20190518T023000Z
SEQUENCE:0
TRANSP:OPAQUE
DTEND:20190518T040000Z
URL:http://jmshockey.com/games/12040
LOCATION:Doug Woog Arena (Wakota)
SUMMARY:Intermediate Game at Doug Woog Arena (Wakota)
CLASS:PUBLIC
DTSTAMP:20260421T133639Z
END:VEVENT
END:VCALENDAR