BEGIN:VCALENDAR
VERSION:2.0
PRODID:JMS Hockey
X-PUBLISHED-TTL:P1W
BEGIN:VEVENT
UID:69e7cadd95bc3
DTSTART:20100128T031500Z
SEQUENCE:0
TRANSP:OPAQUE
DTEND:20100128T044500Z
URL:http://jmshockey.com/games/1204
LOCATION:Bloomington Ice Gardens
SUMMARY:Level 4 Game at Bloomington Ice Gardens
CLASS:PUBLIC
DTSTAMP:20260421T140709Z
END:VEVENT
END:VCALENDAR