BEGIN:VCALENDAR
VERSION:2.0
PRODID:JMS Hockey
X-PUBLISHED-TTL:P1W
BEGIN:VEVENT
UID:69e7c3cd824e0
DTSTART:20190511T002000Z
SEQUENCE:0
TRANSP:OPAQUE
DTEND:20190511T015000Z
URL:http://jmshockey.com/games/12038
LOCATION:Doug Woog Arena (Wakota)
SUMMARY:Intermediate Game at Doug Woog Arena (Wakota)
CLASS:PUBLIC
DTSTAMP:20260421T133701Z
END:VEVENT
END:VCALENDAR