BEGIN:VCALENDAR
VERSION:2.0
PRODID:JMS Hockey
X-PUBLISHED-TTL:P1W
BEGIN:VEVENT
UID:69e787b677c9b
DTSTART:20190523T024000Z
SEQUENCE:0
TRANSP:OPAQUE
DTEND:20190523T041000Z
URL:http://jmshockey.com/games/12036
LOCATION:Doug Woog Arena (Wakota)
SUMMARY:Intermediate Game at Doug Woog Arena (Wakota)
CLASS:PUBLIC
DTSTAMP:20260421T092038Z
END:VEVENT
END:VCALENDAR