BEGIN:VCALENDAR
VERSION:2.0
PRODID:JMS Hockey
X-PUBLISHED-TTL:P1W
BEGIN:VEVENT
UID:69e7b58c893f0
DTSTART:20100128T040000Z
SEQUENCE:0
TRANSP:OPAQUE
DTEND:20100128T053000Z
URL:http://jmshockey.com/games/1203
LOCATION:Northeast Arena
SUMMARY:Lower Level Game at Northeast Arena
CLASS:PUBLIC
DTSTAMP:20260421T123612Z
END:VEVENT
END:VCALENDAR