BEGIN:VCALENDAR
VERSION:2.0
PRODID:JMS Hockey
X-PUBLISHED-TTL:P1W
BEGIN:VEVENT
UID:69e7adf20effb
DTSTART:20190524T012000Z
SEQUENCE:0
TRANSP:OPAQUE
DTEND:20190524T025000Z
URL:http://jmshockey.com/games/12006
LOCATION:Burnsville Arena
SUMMARY:Intermediate Game at Burnsville Arena
CLASS:PUBLIC
DTSTAMP:20260421T120346Z
END:VEVENT
END:VCALENDAR