BEGIN:VCALENDAR
VERSION:2.0
PRODID:JMS Hockey
X-PUBLISHED-TTL:P1W
BEGIN:VEVENT
UID:69e7adead385f
DTSTART:20100127T031500Z
SEQUENCE:0
TRANSP:OPAQUE
DTEND:20100127T044500Z
URL:http://jmshockey.com/games/1199
LOCATION:Minnehaha Academy
SUMMARY:Level 3 Game at Minnehaha Academy
CLASS:PUBLIC
DTSTAMP:20260421T120338Z
END:VEVENT
END:VCALENDAR