BEGIN:VCALENDAR
VERSION:2.0
PRODID:JMS Hockey
X-PUBLISHED-TTL:P1W
BEGIN:VEVENT
UID:69e7a3e049237
DTSTART:20190409T002000Z
SEQUENCE:0
TRANSP:OPAQUE
DTEND:20190409T015000Z
URL:http://jmshockey.com/games/11989
LOCATION:Doug Woog Arena (Wakota)
SUMMARY:Lower Level Game at Doug Woog Arena (Wakota)
CLASS:PUBLIC
DTSTAMP:20260421T112048Z
END:VEVENT
END:VCALENDAR