BEGIN:VCALENDAR
VERSION:2.0
PRODID:JMS Hockey
X-PUBLISHED-TTL:P1W
BEGIN:VEVENT
UID:69e774ee1ed03
DTSTART:20190427T024500Z
SEQUENCE:0
TRANSP:OPAQUE
DTEND:20190427T041500Z
URL:http://jmshockey.com/games/11987
LOCATION:St Louis Park Rec Center
SUMMARY:Novice Game at St Louis Park Rec Center
CLASS:PUBLIC
DTSTAMP:20260421T080030Z
END:VEVENT
END:VCALENDAR