BEGIN:VCALENDAR
VERSION:2.0
PRODID:JMS Hockey
X-PUBLISHED-TTL:P1W
BEGIN:VEVENT
UID:69e7ade94c7ee
DTSTART:20190418T010000Z
SEQUENCE:0
TRANSP:OPAQUE
DTEND:20190418T023000Z
URL:http://jmshockey.com/games/11948
LOCATION:Polar Arena
SUMMARY:Lower Level Game at Polar Arena
CLASS:PUBLIC
DTSTAMP:20260421T120337Z
END:VEVENT
END:VCALENDAR