BEGIN:VCALENDAR
VERSION:2.0
PRODID:JMS Hockey
X-PUBLISHED-TTL:P1W
BEGIN:VEVENT
UID:69e7c3c937c4d
DTSTART:20100126T034500Z
SEQUENCE:0
TRANSP:OPAQUE
DTEND:20100126T051500Z
URL:http://jmshockey.com/games/1194
LOCATION:Bloomington Ice Gardens
SUMMARY:Level 2 Game at Bloomington Ice Gardens
CLASS:PUBLIC
DTSTAMP:20260421T133657Z
END:VEVENT
END:VCALENDAR