BEGIN:VCALENDAR
VERSION:2.0
PRODID:JMS Hockey
X-PUBLISHED-TTL:P1W
BEGIN:VEVENT
UID:69e78a3c3cc0d
DTSTART:20190322T012000Z
SEQUENCE:0
TRANSP:OPAQUE
DTEND:20190322T025000Z
URL:http://jmshockey.com/games/11924
LOCATION:Burnsville Arena
SUMMARY:Intermediate Game at Burnsville Arena
CLASS:PUBLIC
DTSTAMP:20260421T093124Z
END:VEVENT
END:VCALENDAR