BEGIN:VCALENDAR
VERSION:2.0
PRODID:JMS Hockey
X-PUBLISHED-TTL:P1W
BEGIN:VEVENT
UID:69e78a12e8dbc
DTSTART:20190315T012000Z
SEQUENCE:0
TRANSP:OPAQUE
DTEND:20190315T025000Z
URL:http://jmshockey.com/games/11920
LOCATION:Burnsville Arena
SUMMARY:Intermediate Game at Burnsville Arena
CLASS:PUBLIC
DTSTAMP:20260421T093042Z
END:VEVENT
END:VCALENDAR