BEGIN:VCALENDAR
VERSION:2.0
PRODID:JMS Hockey
X-PUBLISHED-TTL:P1W
BEGIN:VEVENT
UID:69e79a9803442
DTSTART:20190330T010000Z
SEQUENCE:0
TRANSP:OPAQUE
DTEND:20190330T023000Z
URL:http://jmshockey.com/games/11915
LOCATION:Parade Ice Gardens
SUMMARY:Upper Level Game at Parade Ice Gardens
CLASS:PUBLIC
DTSTAMP:20260421T104112Z
END:VEVENT
END:VCALENDAR