BEGIN:VCALENDAR
VERSION:2.0
PRODID:JMS Hockey
X-PUBLISHED-TTL:P1W
BEGIN:VEVENT
UID:69e79633967a4
DTSTART:20190328T024000Z
SEQUENCE:0
TRANSP:OPAQUE
DTEND:20190328T041000Z
URL:http://jmshockey.com/games/11906
LOCATION:Doug Woog Arena (Wakota)
SUMMARY:Intermediate Game at Doug Woog Arena (Wakota)
CLASS:PUBLIC
DTSTAMP:20260421T102227Z
END:VEVENT
END:VCALENDAR