BEGIN:VCALENDAR
VERSION:2.0
PRODID:JMS Hockey
X-PUBLISHED-TTL:P1W
BEGIN:VEVENT
UID:69e79a58f19dc
DTSTART:20190315T024000Z
SEQUENCE:0
TRANSP:OPAQUE
DTEND:20190315T041000Z
URL:http://jmshockey.com/games/11889
LOCATION:St Thomas Ice Arena
SUMMARY:All level Game at St Thomas Ice Arena
CLASS:PUBLIC
DTSTAMP:20260421T104008Z
END:VEVENT
END:VCALENDAR