BEGIN:VCALENDAR
VERSION:2.0
PRODID:JMS Hockey
X-PUBLISHED-TTL:P1W
BEGIN:VEVENT
UID:69e795f310479
DTSTART:20190316T004500Z
SEQUENCE:0
TRANSP:OPAQUE
DTEND:20190316T021500Z
URL:http://jmshockey.com/games/11883
LOCATION:Roseville Skating Center
SUMMARY:Lower Level Game at Roseville Skating Center
CLASS:PUBLIC
DTSTAMP:20260421T102123Z
END:VEVENT
END:VCALENDAR