BEGIN:VCALENDAR
VERSION:2.0
PRODID:JMS Hockey
X-PUBLISHED-TTL:P1W
BEGIN:VEVENT
UID:69e797dddd6e8
DTSTART:20190314T010000Z
SEQUENCE:0
TRANSP:OPAQUE
DTEND:20190314T023000Z
URL:http://jmshockey.com/games/11877
LOCATION:Polar Arena
SUMMARY:Lower Level Game at Polar Arena
CLASS:PUBLIC
DTSTAMP:20260421T102933Z
END:VEVENT
END:VCALENDAR