BEGIN:VCALENDAR
VERSION:2.0
PRODID:JMS Hockey
X-PUBLISHED-TTL:P1W
BEGIN:VEVENT
UID:69e7d4e51bc42
DTSTART:20100123T034500Z
SEQUENCE:0
TRANSP:OPAQUE
DTEND:20100123T051500Z
URL:http://jmshockey.com/games/1187
LOCATION:Richfield Ice Arena
SUMMARY:Level 2 Game at Richfield Ice Arena
CLASS:PUBLIC
DTSTAMP:20260421T144957Z
END:VEVENT
END:VCALENDAR