BEGIN:VCALENDAR
VERSION:2.0
PRODID:JMS Hockey
X-PUBLISHED-TTL:P1W
BEGIN:VEVENT
UID:69e787fedc79a
DTSTART:20190209T034500Z
SEQUENCE:0
TRANSP:OPAQUE
DTEND:20190209T051500Z
URL:http://jmshockey.com/games/11849
LOCATION:St Louis Park Rec Center
SUMMARY:Novice Game at St Louis Park Rec Center
CLASS:PUBLIC
DTSTAMP:20260421T092150Z
END:VEVENT
END:VCALENDAR