BEGIN:VCALENDAR
VERSION:2.0
PRODID:JMS Hockey
X-PUBLISHED-TTL:P1W
BEGIN:VEVENT
UID:69e77b2a694c2
DTSTART:20190220T024500Z
SEQUENCE:0
TRANSP:OPAQUE
DTEND:20190220T041500Z
URL:http://jmshockey.com/games/11843
LOCATION:St Louis Park Rec Center
SUMMARY:Novice Game at St Louis Park Rec Center
CLASS:PUBLIC
DTSTAMP:20260421T082706Z
END:VEVENT
END:VCALENDAR