BEGIN:VCALENDAR
VERSION:2.0
PRODID:JMS Hockey
X-PUBLISHED-TTL:P1W
BEGIN:VEVENT
UID:69e787ff2b4fe
DTSTART:20190219T024000Z
SEQUENCE:0
TRANSP:OPAQUE
DTEND:20190219T041000Z
URL:http://jmshockey.com/games/11838
LOCATION:Doug Woog Arena (Wakota)
SUMMARY:Lower Level Game at Doug Woog Arena (Wakota)
CLASS:PUBLIC
DTSTAMP:20260421T092151Z
END:VEVENT
END:VCALENDAR