BEGIN:VCALENDAR
VERSION:2.0
PRODID:JMS Hockey
X-PUBLISHED-TTL:P1W
BEGIN:VEVENT
UID:69e7b12d2b320
DTSTART:20100120T034500Z
SEQUENCE:0
TRANSP:OPAQUE
DTEND:20100120T051500Z
URL:http://jmshockey.com/games/1183
LOCATION:Northeast Arena
SUMMARY:Level 2 Game at Northeast Arena
CLASS:PUBLIC
DTSTAMP:20260421T121733Z
END:VEVENT
END:VCALENDAR