BEGIN:VCALENDAR
VERSION:2.0
PRODID:JMS Hockey
X-PUBLISHED-TTL:P1W
BEGIN:VEVENT
UID:69e7afa4d9b50
DTSTART:20190209T035000Z
SEQUENCE:0
TRANSP:OPAQUE
DTEND:20190209T052000Z
URL:http://jmshockey.com/games/11828
LOCATION:Schwan Superrink
SUMMARY:All level Game at Schwan Superrink
CLASS:PUBLIC
DTSTAMP:20260421T121100Z
END:VEVENT
END:VCALENDAR