BEGIN:VCALENDAR
VERSION:2.0
PRODID:JMS Hockey
X-PUBLISHED-TTL:P1W
BEGIN:VEVENT
UID:69e7d538b8be8
DTSTART:20190212T034000Z
SEQUENCE:0
TRANSP:OPAQUE
DTEND:20190212T051000Z
URL:http://jmshockey.com/games/11822
LOCATION:St Thomas Ice Arena
SUMMARY:Intermediate Game at St Thomas Ice Arena
CLASS:PUBLIC
DTSTAMP:20260421T145120Z
END:VEVENT
END:VCALENDAR