BEGIN:VCALENDAR
VERSION:2.0
PRODID:JMS Hockey
X-PUBLISHED-TTL:P1W
BEGIN:VEVENT
UID:69e78bd52e42f
DTSTART:20190205T034000Z
SEQUENCE:0
TRANSP:OPAQUE
DTEND:20190205T051000Z
URL:http://jmshockey.com/games/11821
LOCATION:St Thomas Ice Arena
SUMMARY:Intermediate Game at St Thomas Ice Arena
CLASS:PUBLIC
DTSTAMP:20260421T093813Z
END:VEVENT
END:VCALENDAR