BEGIN:VCALENDAR
VERSION:2.0
PRODID:JMS Hockey
X-PUBLISHED-TTL:P1W
BEGIN:VEVENT
UID:69e7afa3ef867
DTSTART:20190308T034000Z
SEQUENCE:0
TRANSP:OPAQUE
DTEND:20190308T051000Z
URL:http://jmshockey.com/games/11819
LOCATION:St Thomas Ice Arena
SUMMARY:All level Game at St Thomas Ice Arena
CLASS:PUBLIC
DTSTAMP:20260421T121059Z
END:VEVENT
END:VCALENDAR