BEGIN:VCALENDAR
VERSION:2.0
PRODID:JMS Hockey
X-PUBLISHED-TTL:P1W
BEGIN:VEVENT
UID:69e7d6794f1f4
DTSTART:20190225T023000Z
SEQUENCE:0
TRANSP:OPAQUE
DTEND:20190225T033000Z
URL:http://jmshockey.com/games/11810
LOCATION:Roseville Skating Center
SUMMARY:All level Game at Roseville Skating Center
CLASS:PUBLIC
DTSTAMP:20260421T145641Z
END:VEVENT
END:VCALENDAR