BEGIN:VCALENDAR
VERSION:2.0
PRODID:JMS Hockey
X-PUBLISHED-TTL:P1W
BEGIN:VEVENT
UID:69e787c304682
DTSTART:20190208T034500Z
SEQUENCE:0
TRANSP:OPAQUE
DTEND:20190208T051500Z
URL:http://jmshockey.com/games/11799
LOCATION:Maple Grove
SUMMARY:Lower Level Game at Maple Grove
CLASS:PUBLIC
DTSTAMP:20260421T092051Z
END:VEVENT
END:VCALENDAR